BEGIN:VCALENDAR
VERSION:2.0
PRODID:-//utpv.fr//NONSGML kigkonsult.se iCalcreator 2.30.10//
CALSCALE:GREGORIAN
METHOD:PUBLISH
UID:7b251e7f-e3e7-46b5-ad6a-002845058d90
X-WR-CALNAME:iCagenda
X-WR-CALDESC:Event Management Extension for Joomla!
X-WR-RELCALID:3E26604A-50F4-4449-8B3E-E4F4932D05B5
X-WR-TIMEZONE:UTC
BEGIN:VTIMEZONE
TZID:UTC
END:VTIMEZONE
BEGIN:VEVENT
UID:6aac74ff-0153-43df-b9a6-90fd4c850e3c
DTSTAMP:20260423T144955Z
CATEGORIES:Voyage\, Visite\, Rencontre & Concours
CLASS:PUBLIC
DESCRIPTION:
DTSTART:20260521T140000Z
DTEND:20260521T163000Z
GEO:00;0
LOCATION:ESPACE PAUL VALERY - SALLE 3
ORGANIZER;CN=:pgauthier94@gmail.com
SEQUENCE:1
SUMMARY:REUNION D'INFORMATION LA REUNION
TRANSP:OPAQUE
URL:https://utpv.fr/agenda/126-reunion-d-information-la-reunion.html
END:VEVENT
END:VCALENDAR
